Workbook

Sheet GENERALIDADES
C1: DIAGNÓSTICO INTEGRAL A PRESTADORES RURALES | M1: Código: AS-F272
M2: Versión: 01
M3: Fecha: 09/07/2025
I5: Fecha:
A7: Nombre o Razón social del prestador:
A9: Representante legal: | I9: Celular
A11: Dirección | I11: E-mail:
A13: Administrador | I13: Celular
A15: Dirección | I15: E-mail:
A17: Nombre del encuestador: | I17: Celular
A19: Dirección | I19: E-mail:
A21: 1. PERSONAS ENTREVISTADAS
X22: Asociación de Usuarios
A23: Nombres y Apoellidos | D23: Cargo | F23: Telefono | I23: Correo Electrónico | L23: Consentimiento del uso de la información para SIASAR | N23: Firma | X23: Junta de Acción Comunal
X24: Federación y/o Cooperativas
X25: Institucion Pública: (Prestación directa a través del municipio)
X27: Institución Privada: (Concesiones, empresas etc.)
X28: Prestación informal (Gestor comunitario sin organización establecida)
X32: Legalizado
X33: En proceso de legalización
X34: No está Legalizado
A35: 2. LOCALIZACION DEL PRESTADOR
A37: Departamento | C37: Municipio | E37: Vereda | H37: Altitud | K37: Longitud | M37: Latitud
A41: 3. TIPO DE PRESTADOR
A43: Seleccione el tipo de prestador
A45: Estado Legal del Prestador
A48: Fecha de creación del prestador
A50: Pais | G50: Departamento
A52: Entidad del tercer nivel: municipal, distrital o veredal
A54: Otro
A56: 4. JUNTA DIRECTIVA Y/O ADMINISTRADORA
A58: Fecha de la última elección de los miembros de la Junta Directiva
A60: Número de reuniones de la Junta Directiva en el último año
A61: Miembros de la Junta Directiva:
A63: Nombres y Apellidos | D63: Cargo | F63: Fecha de Elección | K63: Telefono | M63: Correo Electrónico
A75: Funcionario de EPC que realiza el diagnostico

Sheet RESPUESTAS GENERALIDADES
A1: DATOS GENERALES | O1: 1. PERSONAS ENTREVISTADAS | BW1: 2. LOCALIZACION DEL PRESTADOR | CC1: 3. TIPO DE PRESTADOR | CL1: MIEMBROS DE LA JUNTA DIRECTIVO
A2: Fecha: | B2: Nombre | C2: Representante legal: | D2: Celular | E2: Dirección | F2: E-mail: | G2: Administrador | H2: Celular | I2: Dirección | J2: E-mail | K2: Nombre del encuestador | L2: Celular | M2: Dirección | N2: E-mail: | O2: Nombres y Apellidos | P2: Cargo | Q2: Telefono | R2: Correo Electrónico | S2: Consentimiento del uso de la información para SIASAR | T2: Firma | U2: Nombres y Apoellidos | V2: Cargo | W2: Telefono | X2: Correo Electrónico | Y2: Consentimiento del uso de la información para SIASAR | Z2: Firma | AA2: Nombres y Apoellidos | AB2: Cargo | AC2: Telefono | AD2: Correo Electrónico | AE2: Consentimiento del uso de la información para SIASAR | AF2: Firma | AG2: Nombres y Apoellidos | AH2: Cargo | AI2: Telefono | AJ2: Correo Electrónico | AK2: Consentimiento del uso de la información para SIASAR | AL2: Firma | AM2: Nombres y Apoellidos | AN2: Cargo | AO2: Telefono | AP2: Correo Electrónico | AQ2: Consentimiento del uso de la información para SIASAR | AR2: Firma | AS2: Nombres y Apoellidos | AT2: Cargo | AU2: Telefono | AV2: Correo Electrónico | AW2: Consentimiento del uso de la información para SIASAR | AX2: Firma | AY2: Nombres y Apoellidos | AZ2: Cargo | BA2: Telefono | BB2: Correo Electrónico | BC2: Consentimiento del uso de la información para SIASAR | BD2: Firma | BE2: Nombres y Apoellidos | BF2: Cargo | BG2: Telefono | BH2: Correo Electrónico | BI2: Consentimiento del uso de la información para SIASAR | BJ2: Firma | BK2: Nombres y Apoellidos | BL2: Cargo | BM2: Telefono | BN2: Correo Electrónico | BO2: Consentimiento del uso de la información para SIASAR | BP2: Firma | BQ2: Nombres y Apoellidos | BR2: Cargo | BS2: Telefono | BT2: Correo Electrónico | BU2: Consentimiento del uso de la información para SIASAR | BV2: Firma | BW2: Departamento | BX2: Municipio | BY2: Vereda | BZ2: Altitud | CA2: Longitud | CB2: Latitud | CC2: Seleccione el tipo de prestador | CD2: Estado Legal del Prestador | CE2: Fecha de creación del prestador | CF2: Pais | CG2: Departamento | CH2: Entidad del tercer nivel: municipal, distrital o veredal | CI2: Otro | CJ2: Fecha de la última elección de los miembros de la Junta Directiva | CK2: Número de reuniones de la Junta Directiva en el último año | CL2: Nombres y Apellidos | CM2: Cargo | CN2: Fecha de Elección | CO2: Telefono | CP2: Correo Electrónico | CQ2: Nombres y Apellidos | CR2: Cargo | CS2: Fecha de Elección | CT2: Telefono | CU2: Correo Electrónico | CV2: Nombres y Apellidos | CW2: Cargo | CX2: Fecha de Elección | CY2: Telefono | CZ2: Correo Electrónico | DA2: Nombres y Apellidos | DB2: Cargo | DC2: Fecha de Elección | DD2: Telefono | DE2: Correo Electrónico | DF2: Nombres y Apellidos | DG2: Cargo | DH2: Fecha de Elección | DI2: Telefono | DJ2: Correo Electrónico | DK2: Nombres y Apellidos | DL2: Cargo | DM2: Fecha de Elección | DN2: Telefono | DO2: Correo Electrónico | DP2: Nombres y Apellidos | DQ2: Cargo | DR2: Fecha de Elección | DS2: Telefono | DT2: Correo Electrónico | DU2: Nombres y Apellidos | DV2: Cargo | DW2: Fecha de Elección | DX2: Telefono | DY2: Correo Electrónico | DZ2: Nombres y Apellidos | EA2: Cargo | EB2: Fecha de Elección | EC2: Telefono | ED2: Correo Electrónico | EE2: Nombres y Apellidos | EF2: Cargo | EG2: Fecha de Elección | EH2: Telefono | EI2: Correo Electrónico | EJ2: Nombres y Apellidos | EK2: Cargo | EL2: Fecha de Elección | EM2: Telefono | EN2: Correo Electrónico
A3: =IF(TRIM(GENERALIDADES!K5)="","No Reportado",GENERALIDADES!K5) -> No Reportado | B3: =IF(TRIM(GENERALIDADES!C7)="","No Reportado",GENERALIDADES!C7) -> No Reportado | C3: =IF(TRIM(GENERALIDADES!C9)="","No Reportado",GENERALIDADES!C9) -> No Reportado | D3: =IF(TRIM(GENERALIDADES!K9)="","No Reportado",GENERALIDADES!K9) -> No Reportado | E3: =IF(TRIM(GENERALIDADES!C11)="","No Reportado",GENERALIDADES!C11) -> No Reportado | F3: =IF(TRIM(GENERALIDADES!K11)="","No Reportado",GENERALIDADES!K11) -> No Reportado | G3: =IF(TRIM(GENERALIDADES!C13)="","No Reportado",GENERALIDADES!C13) -> No Reportado | H3: =IF(TRIM(GENERALIDADES!K13)="","No Reportado",GENERALIDADES!K13) -> No Reportado | I3: =IF(TRIM(GENERALIDADES!C15)="","No Reportado",GENERALIDADES!C15) -> No Reportado | J3: =IF(TRIM(GENERALIDADES!K15)="","No Reportado",GENERALIDADES!K15) -> No Reportado | K3: =IF(TRIM(GENERALIDADES!C17)="","No Reportado",GENERALIDADES!C17) -> No Reportado | L3: =IF(TRIM(GENERALIDADES!K17)="","No Reportado",GENERALIDADES!K17) -> No Reportado | M3: =IF(TRIM(GENERALIDADES!C19)="","No Reportado",GENERALIDADES!C19) -> No Reportado | N3: =IF(TRIM(GENERALIDADES!K19)="","No Reportado",GENERALIDADES!K19) -> No Reportado | O3: =IF(TRIM(GENERALIDADES!A24)="","No Reportado",GENERALIDADES!A24) -> No Reportado | P3: =IF(TRIM(GENERALIDADES!D24)="","No Reportado",GENERALIDADES!D24) -> No Reportado | Q3: =IF(TRIM(GENERALIDADES!F24)="","No Reportado",GENERALIDADES!F24) -> No Reportado | R3: =IF(TRIM(GENERALIDADES!I24)="","No Reportado",GENERALIDADES!I24) -> No Reportado | S3: =IF(TRIM(GENERALIDADES!L24)="","No Reportado",GENERALIDADES!L24) -> No Reportado | T3: =IF(TRIM(GENERALIDADES!N24)="","No Reportado",GENERALIDADES!N24) -> No Reportado | U3: =IF(TRIM(GENERALIDADES!A25)="","No Reportado",GENERALIDADES!A25) -> No Reportado | V3: =IF(TRIM(GENERALIDADES!D25)="","No Reportado",GENERALIDADES!D25) -> No Reportado | W3: =IF(TRIM(GENERALIDADES!F25)="","No Reportado",GENERALIDADES!F25) -> No Reportado | X3: =IF(TRIM(GENERALIDADES!I25)="","No Reportado",GENERALIDADES!I25) -> No Reportado | Y3: =IF(TRIM(GENERALIDADES!L25)="","No Reportado",GENERALIDADES!L25) -> No Reportado | Z3: =IF(TRIM(GENERALIDADES!N25)="","No Reportado",GENERALIDADES!N25) -> No Reportado | AA3: =IF(TRIM(GENERALIDADES!A26)="","No Reportado",GENERALIDADES!A26) -> No Reportado | AB3: =IF(TRIM(GENERALIDADES!D26)="","No Reportado",GENERALIDADES!D26) -> No Reportado | AC3: =IF(TRIM(GENERALIDADES!F26)="","No Reportado",GENERALIDADES!F26) -> No Reportado | AD3: =IF(TRIM(GENERALIDADES!I26)="","No Reportado",GENERALIDADES!I26) -> No Reportado | AE3: =IF(TRIM(GENERALIDADES!L26)="","No Reportado",GENERALIDADES!L26) -> No Reportado | AF3: =IF(TRIM(GENERALIDADES!N26)="","No Reportado",GENERALIDADES!N26) -> No Reportado | AG3: =IF(TRIM(GENERALIDADES!A27)="","No Reportado",GENERALIDADES!A27) -> No Reportado | AH3: =IF(TRIM(GENERALIDADES!D27)="","No Reportado",GENERALIDADES!D27) -> No Reportado | AI3: =IF(TRIM(GENERALIDADES!F27)="","No Reportado",GENERALIDADES!F27) -> No Reportado | AJ3: =IF(TRIM(GENERALIDADES!I27)="","No Reportado",GENERALIDADES!I27) -> No Reportado | AK3: =IF(TRIM(GENERALIDADES!L27)="","No Reportado",GENERALIDADES!L27) -> No Reportado | AL3: =IF(TRIM(GENERALIDADES!N26)="","No Reportado",GENERALIDADES!N26) -> No Reportado | AM3: =IF(TRIM(GENERALIDADES!A28)="","No Reportado",GENERALIDADES!A28) -> No Reportado | AN3: =IF(TRIM(GENERALIDADES!D28)="","No Reportado",GENERALIDADES!D28) -> No Reportado | AO3: =IF(TRIM(GENERALIDADES!F28)="","No Reportado",GENERALIDADES!F28) -> No Reportado | AP3: =IF(TRIM(GENERALIDADES!I28)="","No Reportado",GENERALIDADES!I28) -> No Reportado | AQ3: =IF(TRIM(GENERALIDADES!L28)="","No Reportado",GENERALIDADES!L28) -> No Reportado | AR3: =IF(TRIM(GENERALIDADES!N28)="","No Reportado",GENERALIDADES!N28) -> No Reportado | AS3: =IF(TRIM(GENERALIDADES!A29)="","No Reportado",GENERALIDADES!A29) -> No Reportado | AT3: =IF(TRIM(GENERALIDADES!D29)="","No Reportado",GENERALIDADES!D29) -> No Reportado | AU3: =IF(TRIM(GENERALIDADES!F29)="","No Reportado",GENERALIDADES!F29) -> No Reportado | AV3: =IF(TRIM(GENERALIDADES!I29)="","No Reportado",GENERALIDADES!I29) -> No Reportado | AW3: =IF(TRIM(GENERALIDADES!L29)="","No Reportado",GENERALIDADES!L29) -> No Reportado | AX3: =IF(TRIM(GENERALIDADES!N29)="","No Reportado",GENERALIDADES!N29) -> No Reportado | AY3: =IF(TRIM(GENERALIDADES!A30)="","No Reportado",GENERALIDADES!A30) -> No Reportado | AZ3: =IF(TRIM(GENERALIDADES!D30)="","No Reportado",GENERALIDADES!D30) -> No Reportado | BA3: =IF(TRIM(GENERALIDADES!F30)="","No Reportado",GENERALIDADES!F30) -> No Reportado | BB3: =IF(TRIM(GENERALIDADES!I30)="","No Reportado",GENERALIDADES!I30) -> No Reportado | BC3: =IF(TRIM(GENERALIDADES!L30)="","No Reportado",GENERALIDADES!L30) -> No Reportado | BD3: =IF(TRIM(GENERALIDADES!N30)="","No Reportado",GENERALIDADES!N30) -> No Reportado | BE3: =IF(TRIM(GENERALIDADES!A31)="","No Reportado",GENERALIDADES!A31) -> No Reportado | BF3: =IF(TRIM(GENERALIDADES!D31)="","No Reportado",GENERALIDADES!D31) -> No Reportado | BG3: =IF(TRIM(GENERALIDADES!F31)="","No Reportado",GENERALIDADES!F31) -> No Reportado | BH3: =IF(TRIM(GENERALIDADES!I31)="","No Reportado",GENERALIDADES!I31) -> No Reportado | BI3: =IF(TRIM(GENERALIDADES!L31)="","No Reportado",GENERALIDADES!L31) -> No Reportado | BJ3: =IF(TRIM(GENERALIDADES!N31)="","No Reportado",GENERALIDADES!N31) -> No Reportado | BK3: =IF(TRIM(GENERALIDADES!A32)="","No Reportado",GENERALIDADES!A32) -> No Reportado | BL3: =IF(TRIM(GENERALIDADES!D32)="","No Reportado",GENERALIDADES!D32) -> No Reportado | BM3: =IF(TRIM(GENERALIDADES!F32)="","No Reportado",GENERALIDADES!F32) -> No Reportado | BN3: =IF(TRIM(GENERALIDADES!I32)="","No Reportado",GENERALIDADES!I32) -> No Reportado | BO3: =IF(TRIM(GENERALIDADES!L32)="","No Reportado",GENERALIDADES!L32) -> No Reportado | BP3: =IF(TRIM(GENERALIDADES!N32)="","No Reportado",GENERALIDADES!N32) -> No Reportado | BQ3: =IF(TRIM(GENERALIDADES!A38)="","No Reportado",GENERALIDADES!A38) -> No Reportado | BR3: =IF(TRIM(GENERALIDADES!C38)="","No Reportado",GENERALIDADES!C38) -> No Reportado | BS3: =IF(TRIM(GENERALIDADES!E38)="","No Reportado",GENERALIDADES!E38) -> No Reportado | BT3: =IF(TRIM(GENERALIDADES!H38)="","No Reportado",GENERALIDADES!H38) -> No Reportado | BU3: =IF(TRIM(GENERALIDADES!K38)="","No Reportado",GENERALIDADES!K38) -> No Reportado | BV3: =IF(TRIM(GENERALIDADES!M38)="","No Reportado",GENERALIDADES!M38) -> No Reportado | BW3: =IF(TRIM(GENERALIDADES!E43)="","No Reportado",GENERALIDADES!E43) -> No Reportado | BX3: =IF(TRIM(GENERALIDADES!E45)="","No Reportado",GENERALIDADES!E45) -> No Reportado | BY3: =IF(TRIM(GENERALIDADES!E48)="","No Reportado",GENERALIDADES!E48) -> No Reportado | BZ3: =IF(TRIM(GENERALIDADES!E50)="","No Reportado",GENERALIDADES!E50) -> No Reportado | CA3: =IF(TRIM(GENERALIDADES!M50)="","No Reportado",GENERALIDADES!M50) -> No Reportado | CB3: =IF(TRIM(GENERALIDADES!G52)="","No Reportado",GENERALIDADES!G52) -> No Reportado | CC3: =IF(TRIM(GENERALIDADES!B54)="","No Reportado",GENERALIDADES!B54) -> No Reportado | CD3: =IF(TRIM(GENERALIDADES!G58)="","No Reportado",GENERALIDADES!G58) -> No Reportado | CE3: =IF(TRIM(GENERALIDADES!G60)="","No Reportado",GENERALIDADES!G60) -> No Reportado | CF3: =IF(TRIM(GENERALIDADES!A64)="","No Reportado",GENERALIDADES!A64) -> No Reportado | CG3: =IF(TRIM(GENERALIDADES!D64)="","No Reportado",GENERALIDADES!D64) -> No Reportado | CH3: =IF(TRIM(GENERALIDADES!F64)="","No Reportado",GENERALIDADES!F64) -> No Reportado | CI3: =IF(TRIM(GENERALIDADES!K64)="","No Reportado",GENERALIDADES!K64) -> No Reportado | CJ3: =IF(TRIM(GENERALIDADES!M64)="","No Reportado",GENERALIDADES!M64) -> No Reportado | CK3: =IF(TRIM(GENERALIDADES!A65)="","No Reportado",GENERALIDADES!A65) -> No Reportado | CL3: =IF(TRIM(GENERALIDADES!D65)="","No Reportado",GENERALIDADES!D65) -> No Reportado | CM3: =IF(TRIM(GENERALIDADES!F65)="","No Reportado",GENERALIDADES!F65) -> No Reportado | CN3: =IF(TRIM(GENERALIDADES!K65)="","No Reportado",GENERALIDADES!K65) -> No Reportado | CO3: =IF(TRIM(GENERALIDADES!M65)="","No Reportado",GENERALIDADES!M65) -> No Reportado | CP3: =IF(TRIM(GENERALIDADES!A66)="","No Reportado",GENERALIDADES!A66) -> No Reportado | CQ3: =IF(TRIM(GENERALIDADES!D66)="","No Reportado",GENERALIDADES!D66) -> No Reportado | CR3: =IF(TRIM(GENERALIDADES!F66)="","No Reportado",GENERALIDADES!F66) -> No Reportado | CS3: =IF(TRIM(GENERALIDADES!K66)="","No Reportado",GENERALIDADES!K66) -> No Reportado | CT3: =IF(TRIM(GENERALIDADES!M66)="","No Reportado",GENERALIDADES!M466) -> No Reportado | CU3: =IF(TRIM(GENERALIDADES!A67)="","No Reportado",GENERALIDADES!A67) -> No Reportado | CV3: =IF(TRIM(GENERALIDADES!D67)="","No Reportado",GENERALIDADES!D67) -> No Reportado | CW3: =IF(TRIM(GENERALIDADES!F67)="","No Reportado",GENERALIDADES!F67) -> No Reportado | CX3: =IF(TRIM(GENERALIDADES!K67)="","No Reportado",GENERALIDADES!K67) -> No Reportado | CY3: =IF(TRIM(GENERALIDADES!M67)="","No Reportado",GENERALIDADES!M67) -> No Reportado | CZ3: =IF(TRIM(GENERALIDADES!A68)="","No Reportado",GENERALIDADES!A68) -> No Reportado | DA3: =IF(TRIM(GENERALIDADES!D68)="","No Reportado",GENERALIDADES!D68) -> No Reportado | DB3: =IF(TRIM(GENERALIDADES!F68)="","No Reportado",GENERALIDADES!F68) -> No Reportado | DC3: =IF(TRIM(GENERALIDADES!K68)="","No Reportado",GENERALIDADES!K68) -> No Reportado | DD3: =IF(TRIM(GENERALIDADES!M68)="","No Reportado",GENERALIDADES!M68) -> No Reportado | DE3: =IF(TRIM(GENERALIDADES!A69)="","No Reportado",GENERALIDADES!A69) -> No Reportado | DF3: =IF(TRIM(GENERALIDADES!D69)="","No Reportado",GENERALIDADES!D69) -> No Reportado | DG3: =IF(TRIM(GENERALIDADES!F69)="","No Reportado",GENERALIDADES!F69) -> No Reportado | DH3: =IF(TRIM(GENERALIDADES!K69)="","No Reportado",GENERALIDADES!K69) -> No Reportado | DI3: =IF(TRIM(GENERALIDADES!M69)="","No Reportado",GENERALIDADES!M69) -> No Reportado | DJ3: =IF(TRIM(GENERALIDADES!A70)="","No Reportado",GENERALIDADES!A70) -> No Reportado | DK3: =IF(TRIM(GENERALIDADES!D70)="","No Reportado",GENERALIDADES!D70) -> No Reportado | DL3: =IF(TRIM(GENERALIDADES!F70)="","No Reportado",GENERALIDADES!F70) -> No Reportado | DM3: =IF(TRIM(GENERALIDADES!K70)="","No Reportado",GENERALIDADES!K70) -> No Reportado | DN3: =IF(TRIM(GENERALIDADES!M70)="","No Reportado",GENERALIDADES!M70) -> No Reportado | DO3: =IF(TRIM(GENERALIDADES!A71)="","No Reportado",GENERALIDADES!A71) -> No Reportado | DP3: =IF(TRIM(GENERALIDADES!D71)="","No Reportado",GENERALIDADES!D71) -> No Reportado | DQ3: =IF(TRIM(GENERALIDADES!F71)="","No Reportado",GENERALIDADES!F71) -> No Reportado | DR3: =IF(TRIM(GENERALIDADES!K71)="","No Reportado",GENERALIDADES!K71) -> No Reportado | DS3: =IF(TRIM(GENERALIDADES!M71)="","No Reportado",GENERALIDADES!M71) -> No Reportado | DT3: =IF(TRIM(GENERALIDADES!A72)="","No Reportado",GENERALIDADES!A72) -> No Reportado | DU3: =IF(TRIM(GENERALIDADES!D72)="","No Reportado",GENERALIDADES!D72) -> No Reportado | DV3: =IF(TRIM(GENERALIDADES!F72)="","No Reportado",GENERALIDADES!F72) -> No Reportado | DW3: =IF(TRIM(GENERALIDADES!K72)="","No Reportado",GENERALIDADES!K72) -> No Reportado | DX3: =IF(TRIM(GENERALIDADES!M72)="","No Reportado",GENERALIDADES!M72) -> No Reportado | DY3: =IF(TRIM(GENERALIDADES!A73)="","No Reportado",GENERALIDADES!A73) -> No Reportado | DZ3: =IF(TRIM(GENERALIDADES!D73)="","No Reportado",GENERALIDADES!D73) -> No Reportado | EA3: =IF(TRIM(GENERALIDADES!F73)="","No Reportado",GENERALIDADES!F73) -> No Reportado | EB3: =IF(TRIM(GENERALIDADES!K73)="","No Reportado",GENERALIDADES!K73) -> No Reportado | EC3: =IF(TRIM(GENERALIDADES!M73)="","No Reportado",GENERALIDADES!M73) -> No Reportado | ED3: =IF(TRIM(GENERALIDADES!A74)="","No Reportado",GENERALIDADES!A74) -> No Reportado | EE3: =IF(TRIM(GENERALIDADES!D74)="","No Reportado",GENERALIDADES!D74) -> No Reportado | EF3: =IF(TRIM(GENERALIDADES!F74)="","No Reportado",GENERALIDADES!F74) -> No Reportado | EG3: =IF(TRIM(GENERALIDADES!K74)="","No Reportado",GENERALIDADES!K74) -> No Reportado | EH3: =IF(TRIM(GENERALIDADES!M74)="","No Reportado",GENERALIDADES!M74) -> No Reportado | EI3: =IF(TRIM(GENERALIDADES!M73)="","No Reportado",GENERALIDADES!M73) -> No Reportado | EJ3: =IF(TRIM(GENERALIDADES!A74)="","No Reportado",GENERALIDADES!A74) -> No Reportado | EK3: =IF(TRIM(GENERALIDADES!D74)="","No Reportado",GENERALIDADES!D74) -> No Reportado | EL3: =IF(TRIM(GENERALIDADES!F74)="","No Reportado",GENERALIDADES!F74) -> No Reportado | EM3: =IF(TRIM(GENERALIDADES!K74)="","No Reportado",GENERALIDADES!K74) -> No Reportado | EN3: =IF(TRIM(GENERALIDADES!M74)="","No Reportado",GENERALIDADES!M74) -> No Reportado

Sheet INSTIT, LEGAL 
C1: DIAGNÓSTICO INTEGRAL A PRESTADORES RURALES | M1: Código: AS-F272 | T1: Si
M2: Versión: 01 | T2: No
M3: Fecha: 09/07/2025
A5: Nombre o Razón social del prestador: | I5: Fecha:
A8: 1. ASPECTOS INSTITUCIONALES
A10: Documento de Constitución | I10: Fecha del Documento
A12: Estatutos del Prestador | I12: Fecha del Documento
A14: Contrato de Operación | I14: Fecha del Contrato | M14: Plazo
A16: Certificado único tributario RUT | I16: Actividad Comercial
A18: Certificado de Existencia y Representación Legal | I18: Fecha de Constitución
A20: NIT | I20: Ultima Renovación :
A22: Objeto Social
A25: Registro Único de Prestadores RUPS | K25: Nº. ID
A27: Fecha de Inicio de Operaciones | I27: Fecha Ultima Actualización
A29: SERIVICIOS PRESTADOS
A31: Acueducto Actividades | C31: Conducción | I31: Fecha de Inicio
C32: Distribución | I32: Fecha de Inicio
C33: Tratamiento | I33: Fecha de Inicio
C34: Comercialización | I34: Fecha de Inicio
C35: Almacenamiento | I35: Fecha de Inicio
C36: Captación | I36: Fecha de Inicio
C37: Aducción | I37: Fecha de Inicio
A39: Alcantarillado Actividades | C39: Conducción de Residuos líquidos | I39: Fecha de Inicio
C40: Recolección | I40: Fecha de Inicio
C41: Tratamiento | I41: Fecha de Inicio
C42: Comercialización | I42: Fecha de Inicio
C43: Disposición Final | I43: Fecha de Inicio
A45: Aseo Actividades | C45: Recolección y transporte | I45: Fecha de Inicio
C46: Corta de Césped y Poda en Arboles | I46: Fecha de Inicio
C47: Barrido y Limpieza | I47: Fecha de Inicio
C48: Comercialización | I48: Fecha de Inicio
C49: Disposición Final | I49: Fecha de Inicio
A51: 2. ASPECTOS LEGALES
A53: Pago de Contribuciones Especiales
A55: Valor Pagado SSPD | H55: valor pagado CRA
A57: Manual de Contratación
A59: Acto Administrativo | I59: Fecha de Adopción:
A61: Reglamento Interno de Trabajo | J61: Acto Administrativo
A63: Fecha de Adopción: | G63: Fecha última Actualización
A65: Procesos Legales | C65: Demandas laborales | L65: Estado
...

Sheet ADMINISTRATIVO 
C1: DIAGNÓSTICO INTEGRAL A PRESTADORES RURALES | P1: Código: AS-F272
P2: Versión: 01 | X2: Si
P3: Fecha: 09/07/2025 | X3: No
A5: Nombre o Razón social del prestador: | I5: Fecha:
A6: 3. ASPECTOS ADMINISTRATIVOS
A8: 3.1 Planta de Personal
A10: Planta de Personal | H10: Adoptada
A12: Acto Administrativo de Adopción | I12: Fecha Ultima Actualización:
A14: No. de personas vinculadas al prestador | G14: Área Administrativa | L14: Área Operativa
A16: No. de personas vinculadas vinculadas por Contrato: | G16: Área Administrativa | L16: Área Operativa
A18: El personal vinculado mediante contrato paga seguridad social
A20: Existe personal certificado en competencias laborales | G20: Cuantos
A22: Áreas y procesos Certificados
A24: Concepto | E24: No Cargos | F24: Perfil | H24: Experiencia | L24: Salario Básico Mensual | P24: Salario Anual
A25: Personal Administrativo
A26: Gerente/Director | P26: =L26*12 -> 0
A27: Tesorero | P27: =L27*12 -> 0
A28: Aux. Administrativo | P28: =L28*12 -> 0
A29: Aux. Comercial | P29: =L29*12 -> 0
A30: Contador | P30: =L30*12 -> 0
A31: Asesores | P31: =L31*12 -> 0
A32: Control interno | P32: =L32*12 -> 0
A33: Otros: | P33: =L33*12 -> 0
A34: Personal Operativo
A35: Operador PTAP | P35: =L35*12 -> 0
A36: Fontaneros | P36: =L36*12 -> 0
A37: Operador PTAR | P37: =L37*12 -> 0
A38: Conductor | P38: =L38*12 -> 0
A39: Escobitas | P39: =L39*12 -> 0
A40: Auxiliares | P40: =L40*12 -> 0
A41: Otros: | P41: =L41*12 -> 0
A42: Total Costos de Personal | L42: =SUM(L26:O33,L35:O41) -> 0 | P42: =SUM(P26:R33,P35:R41) -> 0
A43: Personas vinculadas por Contrato:
A44: Concepto | E44: No Cargos | F44: Tipo de contrato | J44: Tiempo del contrato | P44: Valor del contrato
A45: Personal Administrativo
A50: Personal Operativo
A55: 3.2 Estructura Organizacional
A57: Estructura Orgánica del Prestador | J57: Fecha de Ultima Actualización
A59: 3.3 Revisión de Manuales y Planes
A61: Manual de Procedimientos
...

Sheet RESPUESTA DE ADMINISTRATIVO
A1: 3. ASPECTOS ADMINISTRATIVOS | GB1: 3.9 Reportes SUI
A2: 3.1 Planta de Personal | G2: Personal contratista | L2: PERSONAL ADMINISTRATIVO | AZ2: PERSONAL OPERATIVO | CK2: PERSONAL VINCULADO POR CONTRATO ADMINISTRATIVO | DA2: PERSONAL VINCULADO POR CONTRATO OPERATIVO | DQ2: 3.2 Estructura Organizacional | DS2: 3.3 Revisión de Manuales y Planes | EH2: 3.4 Revisión Proceso de Planeación y Gestion | ET2: 3.5 Revisión Procesos de Apoyo | EV2: 3.6 Revisión de los Aspectos Informáticos | FI2: 3.7 Recursos Humanos | FY2: 3.8 Rendición de Cuentas | GB2: ACUEDUCTO | GZ2: ALCANTARILLADO | HX2: ASEO | IP2: SGP | IS2: Gobierno NIIF | IX2: 3.10 Indicadores de Gestión Administrativa
A3: Planta de Personal | B3: Adoptada | C3: Acto Administrativo de Adopción | D3: Fecha Ultima Actualización: | E3: No. de personas vinculadas al prestador: Area Administrativa | F3: No. de personas vinculadas al prestador: Area Operativa | G3: No. de personas vinculadas por Contrato: Area Administrativa | H3: No. de personas vinculadas por Contrato: : Área Operativa | I3: El personal vinculado mediante contrato paga seguridad social | J3: Existe personal certificado en competencias laborales | K3: Áreas y procesos Certificados | L3: Gerente/Director: Nª Cargos | M3: Gerente/Director: Perfil | N3: Gerente/Director: Experiencia | O3: Gerente/Director: Salario Básico Mensual | P3: Gerente/Director: Salario Anual | Q3: Tesorero: Nª Cargos | R3: Tesorero: Perfil | S3: Tesorero: Experiencia | T3: Tesorero: Salario Básico Mensual | U3: Tesorero: Salario Anual | V3: Aux. Administrativo: Nª Cargos | W3: Aux. Administrativo: Perfil | X3: Aux. Administrativo: Experiencia | Y3: Aux. Administrativo: Salario Básico Mensual | Z3: Aux. Administrativo: Salario Anual | AA3: Aux. Comercial: Nª Cargos | AB3: Aux. Comercial: Perfil | AC3: Aux. Comercial: Experiencia | AD3: Aux. Comercial: Salario Básico Mensual | AE3: Aux. Comercial: Salario Anual | AF3: Contador: Nª Cargos | AG3: Contador: Perfil | AH3: Contador: Experiencia | AI3: Contador: Salario Básico Mensual | AJ3: Contador: Salario Anual | AK3: Asesores: Nª Cargos | AL3: Asesores: Experiencia | AM3: Asesores: Experiencia | AN3: Asesores: Salario Básico Mensual | AO3: Asesores: Salario Anual | AP3: Control interno: Nª Cargos | AQ3: Control interno: Experiencia | AR3: Control interno: Experiencia | AS3: Control interno: Salario Básico Mensual | AT3: Control interno: Salario Anual | AU3: Otros: Nª Cargos | AV3: Otros: Experiencia | AW3: Otros: Experiencia | AX3: Otros: Salario Básico Mensual | AY3: Otros: Salario Anual | AZ3: Operador PTAP: Nª Cargos | BA3: Operador PTAP: Perfil | BB3: Operador PTAP: Experiencia | BC3: Operador PTAP: Salario Básico Mensual | BD3: Operador PTAP: Salario Anual | BE3: Fontaneros: Nª Cargos | BF3: Fontaneros: Perfil | BG3: Fontaneros: Experiencia | BH3: Fontaneros: Salario Básico Mensual | BI3: Fontaneros: Salario Anual | BJ3: Operador PTAR: Nª Cargos | BK3: Operador PTAR: Perfil | BL3: Operador PTAR: Experiencia | BM3: Operador PTAR: Salario Básico Mensual | BN3: Operador PTAR: Salario Anual | BO3: Conductor Nª Cargos | BP3: Conductor: Perfil | BQ3: Conductor: Experiencia | BR3: Conductor: Salario Básico Mensual | BS3: Conductor: Salario Anual | BT3: Escobitas: Nª Cargos | BU3: Escobitas: Perfil | BV3: Escobitas: Experiencia | BW3: Escobitas: Salario Básico Mensual | BX3: Escobitas: Salario Anual | BY3: Auxiliares: Nª Cargos | BZ3: Auxiliares: Perfil | CA3: Auxiliares: Experiencia | CB3: Auxiliares: Salario Básico Mensual | CC3: Auxiliares: Salario Anual | CD3: Otros: Nª Cargos | CE3: Otros: Experiencia | CF3: Otros: Experiencia | CG3: Otros: Salario Básico Mensual | CH3: Otros: Salario Anual | CI3: TOTAL: Salario Básico Mensual | CJ3: TOTAL: Salario Anual | CK3: Administrtivo 1: Nª de cargos | CL3: Administrtivo 1: Tipo de contrato | CM3: Administrtivo 1: Tiempo de contrato | CN3: Administrtivo 1:Valor del contrato | CO3: Administrtivo 2: Nª de cargos | CP3: Administrtivo 2: Tipo de contrato | CQ3: Administrtivo 2: Tiempo de contrato | CR3: Administrtivo 2:Valor del contrato | CS3: Administrtivo 3: Nª de cargos | CT3: Administrtivo 3: Tipo de contrato | CU3: Administrtivo 3: Tiempo de contrato | CV3: Administrtivo 3:Valor del contrato | CW3: Administrtivo 4: Nª de cargos | CX3: Administrtivo 4: Tipo de contrato | CY3: Administrtivo 4: Tiempo de contrato | CZ3: Administrtivo 4:Valor del contrato | DA3: Operativo 1: Nª de cargos | DB3: Operativo 1: Tipo de contrato | DC3: Operativo 1: Tiempo de contrato | DD3: Operativo 1:Valor del contrato | DE3: Operativo 2: Nª de cargos | DF3: Operativo 2: Tipo de contrato | DG3: Operativo 2: Tiempo de contrato | DH3: Operativo 2:Valor del contrato | DI3: Operativo 3: Nª de cargos | DJ3: Operativo 3: Tipo de contrato | DK3: Operativo 3: Tiempo de contrato | DL3: Operativo 3:Valor del contrato | DM3: Operativo 4: Nª de cargos | DN3: Operativo 4: Tipo de contrato | DO3: Operativo 4: Tiempo de contrato | DP3: Operativo 4:Valor del contrato | DQ3: Estructura Orgánica del Prestador | DR3: Fecha de Ultima Actualización | DS3: Manual de Procedimientos | DT3: Fecha | DU3: Acto Adtivo. de Aprobación | DV3: Manual de Funciones | DW3: Fecha | DX3: Acto Adtivo. de Aprobación | DY3: Manual de Cartera | DZ3: Fecha | EA3: Acto Adtivo. de Aprobación | EB3: Código de buen gobierno | EC3: Fecha | ED3: Acto Adtivo. de Aprobación | EE3: Plan de Emergencia y Contingencia (sequias, inundaciones, COVIC - 19. etc) | EF3: Fecha | EG3: Acto Adtivo. de Aprobación | EH3: Plan de Gestión y Resultados (PGR) | EI3: Fecha | EJ3: Acto Adtivo. de Aprobación | EK3: Se tiene establecida la función misional del prestador | EL3: Se tiene establecida la función visional del prestador | EM3: Se tiene definidos los objetivos estratégicos del prestador | EN3: Existe un Sistema de Gestión de Calidad | EO3: Fecha | EP3: Acto Adtivo. de Aprobación | EQ3: Existe un Sistema de Gestión de SST | ER3: Fecha | ES3: Acto Adtivo. de Aprobación | ET3: Existen Procedimientos para el manejo de Archivos y Gestion Documental | EU3: Existen Procedimientos de Compras y Inventarios | EV3: Pagina Web | EW3: Correo electrónico | EX3: Proveedor de Internet | EY3: Velocidad de Acceso a Internet | EZ3: Cantidad computadores escritorio | FA3: Cantidad computadores portátiles | FB3: Número de Impresoras | FC3: Software utilizado para facturación | FD3: Software utilizado para Contabilidad | FE3: Software utilizado para el manejo de la nómina | FF3: Facturación en sitio | FG3: Redes sociales utilizadas | FH3: Necesidades propuestas por el prestador | FI3: Existen procedimientos para la salud y el bienestar del talento humano | FJ3: Existe un programa de selección de personal | FK3: Fecha | FL3: Acto Adtivo. de Aprobación | FM3: Existe un programa de induccion de persoanal | FN3: Fecha | FO3: Acto Adtivo. de Aprobación | FP3: Existe un programa de vinculación de personal | FQ3: Fecha | FR3: Acto Adtivo. de Aprobación | FS3: Existe un programa de capacitacion de Personal | FT3: Fecha | FU3: Acto Adtivo. de Aprobación | FV3: Existe un programa de permisos y vacaciones de personal | FW3: Fecha | FX3: Acto Adtivo. de Aprobación | FY3: El prestador del servicio ride cuentas | FZ3: Con que periodicidad rinde cuentas: | GA3: Mecanismos de rendición de rendición de cuentas: | GB3: Administrativo - vigencia anterior | GC3: Administrativo - vigencia actual | GD3: TOTAL | GE3: Administrativo y financiero - vigencia anterior | GF3: Administrativo y financiero - vigencia actual | GG3: TOTAL | GH3: Comercial y de Gestión- vigencia anterior | GI3: Comercial y de Gestión - vigencia actual | GJ3: TOTAL | GK3: Auditor - vigencia anterior | GL3: Auditor - vigencia actual | GM3: TOTAL | GN3: Suricata - vigencia anterior | GO3: Suricata- vigencia actual | GP3: TOTAL | GQ3: Técnico Operativo - vigencia anterior | GR3: Técnico Operativo - vigencia actual | GS3: TOTAL | GT3: Otros- vigencia anterior | GU3: Otros- vigencia actual | GV3: TOTAL | GW3: TOTAL ACUEDUCTO VIGENCIA ANTERIOR | GX3: TOTAL ACUEDUCTO VIGENCIA ACTUAL | GY3: TOTAL ACUEDUCTO | GZ3: Administrativo - vigencia anterior | HA3: Administrativo - vigencia actual | HB3: TOTAL | HC3: Administrativo y financiero - vigencia anterior | HD3: Administrativo y financiero - vigencia actual | HE3: TOTAL | HF3: Comercial y de Gestión- vigencia anterior | HG3: Comercial y de Gestión - vigencia actual | HH3: TOTAL | HI3: Auditor - vigencia anterior | HJ3: Auditor - vigencia actual | HK3: TOTAL | HL3: Suricata - vigencia anterior | HM3: Suricata- vigencia actual | HN3: TOTAL | HO3: Técnico Operativo - vigencia anterior | HP3: Técnico Operativo - vigencia actual | HQ3: TOTAL | HR3: Otros- vigencia anterior | HS3: Otros- vigencia actual | HT3: TOTAL | HU3: TOTAL ALCANTARILLADO VIGENCIA ANTERIOR | HV3: TOTAL ALCANTARILLADO VIGENCIA ACTUAL | HW3: TOTAL ALCANTARILLADO | HX3: Administrativo - vigencia anterior | HY3: Administrativo - vigencia actual | HZ3: TOTAL | IA3: Administrativo y financiero - vigencia anterior | IB3: Administrativo y financiero - vigencia actual | IC3: TOTAL | ID3: Comercial y de Gestión- vigencia anterior | IE3: Comercial y de Gestión - vigencia actual | IF3: TOTAL | IG3: Auditor - vigencia anterior | IH3: Auditor - vigencia actual | II3: TOTAL | IJ3: Técnico Operativo - vigencia anterior | IK3: Técnico Operativo - vigencia actual | IL3: TOTAL | IM3: TOTAL ASEO VIGENCIA ANTERIOR | IN3: TOTAL ASEO VIGENCIA ACTUAL | IO3: TOTAL ASEO | IP3: Prestadores - vigencia anterior | IQ3: Prestadores - vigencia actual | IR3: TOTAL | IS3: Procesos nif- vigencia anterior | IT3: Procesos NIIF- vigencia actual | IU3: TOTAL | IV3: Numero total de Empleados Administrativos | IW3: Numero total de Suscriptores (servicio con mayor numero) | IX3: Productividad del Personal Administrativo del Prestador PPAP | IY3: Numero total de Empleados Operativos ( Acueducto) | IZ3: Numero total de Suscriptores (acueducto ) | JA3: Productividad del Personal Operativo Acueducto POAC | JB3: Numero total de Empleados Operativos ( Alcantarillado) | JC3: Numero total de Suscriptores (Alcantarillado ) | JD3: Productividad del Personal Operativo Alcantarillado POALC
A4: =IF(TRIM('ADMINISTRATIVO '!E10)="","No Reportado",('ADMINISTRATIVO '!E10)) -> No Reportado | B4: =IF(TRIM('ADMINISTRATIVO '!J10)="","No Reportado",('ADMINISTRATIVO '!J10)) -> No Reportado | C4: =IF(TRIM('ADMINISTRATIVO '!E12)="","No Reportado",('ADMINISTRATIVO '!E12)) -> No Reportado | D4: =IF(TRIM('ADMINISTRATIVO '!N12)="","No Reportado",('ADMINISTRATIVO '!N12)) -> No Reportado | E4: =IF(TRIM('ADMINISTRATIVO '!I14)="","No Reportado",('ADMINISTRATIVO '!I14)) -> No Reportado | F4: =IF(TRIM('ADMINISTRATIVO '!O14)="","No Reportado",('ADMINISTRATIVO '!O14)) -> No Reportado | G4: =IF(TRIM('ADMINISTRATIVO '!I16)="","No Reportado",('ADMINISTRATIVO '!I16)) -> No Reportado | H4: =IF(TRIM('ADMINISTRATIVO '!O16)="","No Reportado",('ADMINISTRATIVO '!O16)) -> No Reportado | I4: =IF(TRIM('ADMINISTRATIVO '!H18)="","No Reportado",('ADMINISTRATIVO '!H18)) -> No Reportado | J4: =IF(TRIM('ADMINISTRATIVO '!I20)="","No Reportado",('ADMINISTRATIVO '!I20)) -> No Reportado | K4: =IF(TRIM('ADMINISTRATIVO '!D22)="","No Reportado",('ADMINISTRATIVO '!D22)) -> No Reportado | L4: =IF(TRIM('ADMINISTRATIVO '!E26)="","No Reportado",('ADMINISTRATIVO '!E26)) -> No Reportado | M4: =IF(TRIM('ADMINISTRATIVO '!F26)="","No Reportado",('ADMINISTRATIVO '!F26)) -> No Reportado | N4: =IF(TRIM('ADMINISTRATIVO '!H26)="","No Reportado",('ADMINISTRATIVO '!H26)) -> No Reportado | O4: =IF(TRIM('ADMINISTRATIVO '!L26)="","No Reportado",('ADMINISTRATIVO '!L26)) -> No Reportado | P4: =IF(TRIM('ADMINISTRATIVO '!P26)="","No Reportado",('ADMINISTRATIVO '!P26)) -> 0 | Q4: =IF(TRIM('ADMINISTRATIVO '!E27)="","No Reportado",('ADMINISTRATIVO '!E27)) -> No Reportado | R4: =IF(TRIM('ADMINISTRATIVO '!F27)="","No Reportado",('ADMINISTRATIVO '!F27)) -> No Reportado | S4: =IF(TRIM('ADMINISTRATIVO '!H27)="","No Reportado",('ADMINISTRATIVO '!H27)) -> No Reportado | T4: =IF(TRIM('ADMINISTRATIVO '!L27)="","No Reportado",('ADMINISTRATIVO '!L27)) -> No Reportado | U4: =IF(TRIM('ADMINISTRATIVO '!P27)="","No Reportado",('ADMINISTRATIVO '!P27)) -> 0 | V4: =IF(TRIM('ADMINISTRATIVO '!E28)="","No Reportado",('ADMINISTRATIVO '!E28)) -> No Reportado | W4: =IF(TRIM('ADMINISTRATIVO '!F28)="","No Reportado",('ADMINISTRATIVO '!F28)) -> No Reportado | X4: =IF(TRIM('ADMINISTRATIVO '!H28)="","No Reportado",('ADMINISTRATIVO '!H28)) -> No Reportado | Y4: =IF(TRIM('ADMINISTRATIVO '!L28)="","No Reportado",('ADMINISTRATIVO '!L28)) -> No Reportado | Z4: =IF(TRIM('ADMINISTRATIVO '!P28)="","No Reportado",('ADMINISTRATIVO '!P28)) -> 0 | AA4: =IF(TRIM('ADMINISTRATIVO '!E29)="","No Reportado",('ADMINISTRATIVO '!E29)) -> No Reportado | AB4: =IF(TRIM('ADMINISTRATIVO '!F29)="","No Reportado",('ADMINISTRATIVO '!F29)) -> No Reportado | AC4: =IF(TRIM('ADMINISTRATIVO '!H29)="","No Reportado",('ADMINISTRATIVO '!H29)) -> No Reportado | AD4: =IF(TRIM('ADMINISTRATIVO '!L29)="","No Reportado",('ADMINISTRATIVO '!L29)) -> No Reportado | AE4: =IF(TRIM('ADMINISTRATIVO '!P29)="","No Reportado",('ADMINISTRATIVO '!P29)) -> 0 | AF4: =IF(TRIM('ADMINISTRATIVO '!E30)="","No Reportado",('ADMINISTRATIVO '!E30)) -> No Reportado | AG4: =IF(TRIM('ADMINISTRATIVO '!F30)="","No Reportado",('ADMINISTRATIVO '!F30)) -> No Reportado | AH4: =IF(TRIM('ADMINISTRATIVO '!H30)="","No Reportado",('ADMINISTRATIVO '!H30)) -> No Reportado | AI4: =IF(TRIM('ADMINISTRATIVO '!L30)="","No Reportado",('ADMINISTRATIVO '!L30)) -> No Reportado | AJ4: =IF(TRIM('ADMINISTRATIVO '!P30)="","No Reportado",('ADMINISTRATIVO '!P30)) -> 0 | AK4: =IF(TRIM('ADMINISTRATIVO '!E31)="","No Reportado",('ADMINISTRATIVO '!E31)) -> No Reportado | AL4: =IF(TRIM('ADMINISTRATIVO '!F31)="","No Reportado",('ADMINISTRATIVO '!F31)) -> No Reportado | AM4: =IF(TRIM('ADMINISTRATIVO '!H31)="","No Reportado",('ADMINISTRATIVO '!H31)) -> No Reportado | AN4: =IF(TRIM('ADMINISTRATIVO '!L31)="","No Reportado",('ADMINISTRATIVO '!L31)) -> No Reportado | AO4: =IF(TRIM('ADMINISTRATIVO '!P31)="","No Reportado",('ADMINISTRATIVO '!P31)) -> 0 | AP4: =IF(TRIM('ADMINISTRATIVO '!E32)="","No Reportado",('ADMINISTRATIVO '!E32)) -> No Reportado | AQ4: =IF(TRIM('ADMINISTRATIVO '!F32)="","No Reportado",('ADMINISTRATIVO '!F32)) -> No Reportado | AR4: =IF(TRIM('ADMINISTRATIVO '!H32)="","No Reportado",('ADMINISTRATIVO '!H32)) -> No Reportado | AS4: =IF(TRIM('ADMINISTRATIVO '!L32)="","No Reportado",('ADMINISTRATIVO '!L32)) -> No Reportado | AT4: =IF(TRIM('ADMINISTRATIVO '!P32)="","No Reportado",('ADMINISTRATIVO '!P32)) -> 0 | AU4: =IF(TRIM('ADMINISTRATIVO '!E33)="","No Reportado",('ADMINISTRATIVO '!E33)) -> No Reportado | AV4: =IF(TRIM('ADMINISTRATIVO '!F33)="","No Reportado",('ADMINISTRATIVO '!F33)) -> No Reportado | AW4: =IF(TRIM('ADMINISTRATIVO '!H33)="","No Reportado",('ADMINISTRATIVO '!H33)) -> No Reportado | AX4: =IF(TRIM('ADMINISTRATIVO '!L33)="","No Reportado",('ADMINISTRATIVO '!L33)) -> No Reportado | AY4: =IF(TRIM('ADMINISTRATIVO '!P33)="","No Reportado",('ADMINISTRATIVO '!P33)) -> 0 | AZ4: =IF(TRIM('ADMINISTRATIVO '!E35)="","No Reportado",('ADMINISTRATIVO '!E35)) -> No Reportado | BA4: =IF(TRIM('ADMINISTRATIVO '!F35)="","No Reportado",('ADMINISTRATIVO '!F35)) -> No Reportado | BB4: =IF(TRIM('ADMINISTRATIVO '!H4)="","No Reportado",('ADMINISTRATIVO '!H35)) -> No Reportado | BC4: =IF(TRIM('ADMINISTRATIVO '!L35)="","No Reportado",('ADMINISTRATIVO '!L35)) -> No Reportado | BD4: =IF(TRIM('ADMINISTRATIVO '!P35)="","No Reportado",('ADMINISTRATIVO '!P35)) -> 0 | BE4: =IF(TRIM('ADMINISTRATIVO '!E36)="","No Reportado",('ADMINISTRATIVO '!E36)) -> No Reportado | BF4: =IF(TRIM('ADMINISTRATIVO '!F36)="","No Reportado",('ADMINISTRATIVO '!F36)) -> No Reportado | BG4: =IF(TRIM('ADMINISTRATIVO '!H36)="","No Reportado",('ADMINISTRATIVO '!H36)) -> No Reportado | BH4: =IF(TRIM('ADMINISTRATIVO '!L36)="","No Reportado",('ADMINISTRATIVO '!L36)) -> No Reportado | BI4: =IF(TRIM('ADMINISTRATIVO '!P36)="","No Reportado",('ADMINISTRATIVO '!P36)) -> 0 | BJ4: =IF(TRIM('ADMINISTRATIVO '!E37)="","No Reportado",('ADMINISTRATIVO '!E37)) -> No Reportado | BK4: =IF(TRIM('ADMINISTRATIVO '!F37)="","No Reportado",('ADMINISTRATIVO '!F37)) -> No Reportado | BL4: =IF(TRIM('ADMINISTRATIVO '!H37)="","No Reportado",('ADMINISTRATIVO '!H37)) -> No Reportado | BM4: =IF(TRIM('ADMINISTRATIVO '!L37)="","No Reportado",('ADMINISTRATIVO '!L37)) -> No Reportado | BN4: =IF(TRIM('ADMINISTRATIVO '!P37)="","No Reportado",('ADMINISTRATIVO '!P37)) -> 0 | BO4: =IF(TRIM('ADMINISTRATIVO '!E38)="","No Reportado",('ADMINISTRATIVO '!E38)) -> No Reportado | BP4: =IF(TRIM('ADMINISTRATIVO '!F38)="","No Reportado",('ADMINISTRATIVO '!F38)) -> No Reportado | BQ4: =IF(TRIM('ADMINISTRATIVO '!H38)="","No Reportado",('ADMINISTRATIVO '!H38)) -> No Reportado | BR4: =IF(TRIM('ADMINISTRATIVO '!L38)="","No Reportado",('ADMINISTRATIVO '!L38)) -> No Reportado | BS4: =IF(TRIM('ADMINISTRATIVO '!P38)="","No Reportado",('ADMINISTRATIVO '!P38)) -> 0 | BT4: =IF(TRIM('ADMINISTRATIVO '!E39)="","No Reportado",('ADMINISTRATIVO '!E39)) -> No Reportado | BU4: =IF(TRIM('ADMINISTRATIVO '!F39)="","No Reportado",('ADMINISTRATIVO '!F39)) -> No Reportado | BV4: =IF(TRIM('ADMINISTRATIVO '!H39)="","No Reportado",('ADMINISTRATIVO '!H39)) -> No Reportado | BW4: =IF(TRIM('ADMINISTRATIVO '!L39)="","No Reportado",('ADMINISTRATIVO '!L39)) -> No Reportado | BX4: =IF(TRIM('ADMINISTRATIVO '!P39)="","No Reportado",('ADMINISTRATIVO '!P39)) -> 0 | BY4: =IF(TRIM('ADMINISTRATIVO '!E40)="","No Reportado",('ADMINISTRATIVO '!E40)) -> No Reportado | BZ4: =IF(TRIM('ADMINISTRATIVO '!F40)="","No Reportado",('ADMINISTRATIVO '!F40)) -> No Reportado | CA4: =IF(TRIM('ADMINISTRATIVO '!H40)="","No Reportado",('ADMINISTRATIVO '!H40)) -> No Reportado | CB4: =IF(TRIM('ADMINISTRATIVO '!L40)="","No Reportado",('ADMINISTRATIVO '!L40)) -> No Reportado | CC4: =IF(TRIM('ADMINISTRATIVO '!P40)="","No Reportado",('ADMINISTRATIVO '!P40)) -> 0 | CD4: =IF(TRIM('ADMINISTRATIVO '!E41)="","No Reportado",('ADMINISTRATIVO '!E41)) -> No Reportado | CE4: =IF(TRIM('ADMINISTRATIVO '!F41)="","No Reportado",('ADMINISTRATIVO '!F41)) -> No Reportado | CF4: =IF(TRIM('ADMINISTRATIVO '!H41)="","No Reportado",('ADMINISTRATIVO '!H41)) -> No Reportado | CG4: =IF(TRIM('ADMINISTRATIVO '!L41)="","No Reportado",('ADMINISTRATIVO '!L41)) -> No Reportado | CH4: =IF(TRIM('ADMINISTRATIVO '!P41)="","No Reportado",('ADMINISTRATIVO '!P41)) -> 0 | CI4: =IF(TRIM('ADMINISTRATIVO '!L42)="","No Reportado",('ADMINISTRATIVO '!L42)) -> 0 | CJ4: =IF(TRIM('ADMINISTRATIVO '!P42)="","No Reportado",('ADMINISTRATIVO '!P42)) -> 0 | CK4: =IF(TRIM('ADMINISTRATIVO '!E46)="","No Reportado",('ADMINISTRATIVO '!E46)) -> No Reportado | CL4: =IF(TRIM('ADMINISTRATIVO '!F46)="","No Reportado",('ADMINISTRATIVO '!F46)) -> No Reportado | CM4: =IF(TRIM('ADMINISTRATIVO '!J46)="","No Reportado",('ADMINISTRATIVO '!J46)) -> No Reportado | CN4: =IF(TRIM('ADMINISTRATIVO '!P46)="","No Reportado",('ADMINISTRATIVO '!P46)) -> No Reportado | CO4: =IF(TRIM('ADMINISTRATIVO '!E47)="","No Reportado",('ADMINISTRATIVO '!E47)) -> No Reportado | CP4: =IF(TRIM('ADMINISTRATIVO '!F47)="","No Reportado",('ADMINISTRATIVO '!F47)) -> No Reportado | CQ4: =IF(TRIM('ADMINISTRATIVO '!J47)="","No Reportado",('ADMINISTRATIVO '!J47)) -> No Reportado | CR4: =IF(TRIM('ADMINISTRATIVO '!P47)="","No Reportado",('ADMINISTRATIVO '!P47)) -> No Reportado | CS4: =IF(TRIM('ADMINISTRATIVO '!E48)="","No Reportado",('ADMINISTRATIVO '!E48)) -> No Reportado | CT4: =IF(TRIM('ADMINISTRATIVO '!F48)="","No Reportado",('ADMINISTRATIVO '!F48)) -> No Reportado | CU4: =IF(TRIM('ADMINISTRATIVO '!J48)="","No Reportado",('ADMINISTRATIVO '!J48)) -> No Reportado | CV4: =IF(TRIM('ADMINISTRATIVO '!P48)="","No Reportado",('ADMINISTRATIVO '!P48)) -> No Reportado | CW4: =IF(TRIM('ADMINISTRATIVO '!E49)="","No Reportado",('ADMINISTRATIVO '!E49)) -> No Reportado | CX4: =IF(TRIM('ADMINISTRATIVO '!F49)="","No Reportado",('ADMINISTRATIVO '!F49)) -> No Reportado | CY4: =IF(TRIM('ADMINISTRATIVO '!J49)="","No Reportado",('ADMINISTRATIVO '!J49)) -> No Reportado | CZ4: =IF(TRIM('ADMINISTRATIVO '!P49)="","No Reportado",('ADMINISTRATIVO '!P49)) -> No Reportado | DA4: =IF(TRIM('ADMINISTRATIVO '!E51)="","No Reportado",('ADMINISTRATIVO '!E51)) -> No Reportado | DB4: =IF(TRIM('ADMINISTRATIVO '!F51)="","No Reportado",('ADMINISTRATIVO '!F51)) -> No Reportado | DC4: =IF(TRIM('ADMINISTRATIVO '!J51)="","No Reportado",('ADMINISTRATIVO '!J51)) -> No Reportado | DD4: =IF(TRIM('ADMINISTRATIVO '!P51)="","No Reportado",('ADMINISTRATIVO '!P51)) -> No Reportado | DE4: =IF(TRIM('ADMINISTRATIVO '!E52)="","No Reportado",('ADMINISTRATIVO '!E52)) -> No Reportado | DF4: =IF(TRIM('ADMINISTRATIVO '!F52)="","No Reportado",('ADMINISTRATIVO '!F52)) -> No Reportado | DG4: =IF(TRIM('ADMINISTRATIVO '!J52)="","No Reportado",('ADMINISTRATIVO '!J52)) -> No Reportado | DH4: =IF(TRIM('ADMINISTRATIVO '!P52)="","No Reportado",('ADMINISTRATIVO '!P52)) -> No Reportado | DI4: =IF(TRIM('ADMINISTRATIVO '!E53)="","No Reportado",('ADMINISTRATIVO '!E53)) -> No Reportado | DJ4: =IF(TRIM('ADMINISTRATIVO '!F53)="","No Reportado",('ADMINISTRATIVO '!F53)) -> No Reportado | DK4: =IF(TRIM('ADMINISTRATIVO '!J53)="","No Reportado",('ADMINISTRATIVO '!J53)) -> No Reportado | DL4: =IF(TRIM('ADMINISTRATIVO '!P53)="","No Reportado",('ADMINISTRATIVO '!EP2)) -> No Reportado | DM4: =IF(TRIM('ADMINISTRATIVO '!E54)="","No Reportado",('ADMINISTRATIVO '!E54)) -> No Reportado | DN4: =IF(TRIM('ADMINISTRATIVO '!F54)="","No Reportado",('ADMINISTRATIVO '!F54)) -> No Reportado | DO4: =IF(TRIM('ADMINISTRATIVO '!J54)="","No Reportado",('ADMINISTRATIVO '!J54)) -> No Reportado | DP4: =IF(TRIM('ADMINISTRATIVO '!P54)="","No Reportado",('ADMINISTRATIVO '!P54)) -> No Reportado | DQ4: =IF(TRIM('ADMINISTRATIVO '!E57)="","No Reportado",('ADMINISTRATIVO '!E57)) -> No Reportado | DR4: =IF(TRIM('ADMINISTRATIVO '!P57)="","No Reportado",('ADMINISTRATIVO '!P57)) -> No Reportado | DS4: =IF(TRIM('ADMINISTRATIVO '!E61)="","No Reportado",('ADMINISTRATIVO '!E61)) -> No Reportado | DT4: =IF(TRIM('ADMINISTRATIVO '!F63)="","No Reportado",('ADMINISTRATIVO '!F63)) -> No Reportado | DU4: =IF(TRIM('ADMINISTRATIVO '!N63)="","No Reportado",('ADMINISTRATIVO '!N63)) -> No Reportado | DV4: =IF(TRIM('ADMINISTRATIVO '!E65)="","No Reportado",('ADMINISTRATIVO '!E65)) -> No Reportado | DW4: =IF(TRIM('ADMINISTRATIVO '!F67)="","No Reportado",('ADMINISTRATIVO '!F67)) -> No Reportado | DX4: =IF(TRIM('ADMINISTRATIVO '!N67)="","No Reportado",('ADMINISTRATIVO '!N67)) -> No Reportado | DY4: =IF(TRIM('ADMINISTRATIVO '!E69)="","No Reportado",('ADMINISTRATIVO '!E69)) -> No Reportado | DZ4: =IF(TRIM('ADMINISTRATIVO '!F71)="","No Reportado",('ADMINISTRATIVO '!F71)) -> No Reportado | EA4: =IF(TRIM('ADMINISTRATIVO '!N71)="","No Reportado",('ADMINISTRATIVO '!N71)) -> No Reportado | EB4: =IF(TRIM('ADMINISTRATIVO '!E73)="","No Reportado",('ADMINISTRATIVO '!E73)) -> No Reportado | EC4: =IF(TRIM('ADMINISTRATIVO '!F75)="","No Reportado",('ADMINISTRATIVO '!F75)) -> No Reportado | ED4: =IF(TRIM('ADMINISTRATIVO '!N75)="","No Reportado",('ADMINISTRATIVO '!N75)) -> No Reportado | EE4: =IF(TRIM('ADMINISTRATIVO '!E77)="","No Reportado",('ADMINISTRATIVO '!E77)) -> No Reportado | EF4: =IF(TRIM('ADMINISTRATIVO '!F79)="","No Reportado",('ADMINISTRATIVO '!F79)) -> No Reportado | EG4: =IF(TRIM('ADMINISTRATIVO '!N79)="","No Reportado",('ADMINISTRATIVO '!N79)) -> No Reportado | EH4: =IF(TRIM('ADMINISTRATIVO '!E83)="","No Reportado",('ADMINISTRATIVO '!E83)) -> No Reportado | EI4: =IF(TRIM('ADMINISTRATIVO '!F85)="","No Reportado",('ADMINISTRATIVO '!F85)) -> No Reportado | EJ4: =IF(TRIM('ADMINISTRATIVO '!N85)="","No Reportado",('ADMINISTRATIVO '!N85)) -> No Reportado | EK4: =IF(TRIM('ADMINISTRATIVO '!F87)="","No Reportado",('ADMINISTRATIVO '!F87)) -> No Reportado | EL4: =IF(TRIM('ADMINISTRATIVO '!F89)="","No Reportado",('ADMINISTRATIVO '!F89)) -> No Reportado | EM4: =IF(TRIM('ADMINISTRATIVO '!F91)="","No Reportado",('ADMINISTRATIVO '!F91)) -> No Reportado | EN4: =IF(TRIM('ADMINISTRATIVO '!F93)="","No Reportado",('ADMINISTRATIVO '!F93)) -> No Reportado | EO4: =IF(TRIM('ADMINISTRATIVO '!F95)="","No Reportado",('ADMINISTRATIVO '!F95)) -> No Reportado | EP4: =IF(TRIM('ADMINISTRATIVO '!N95)="","No Reportado",('ADMINISTRATIVO '!N95)) -> No Reportado | EQ4: =IF(TRIM('ADMINISTRATIVO '!F97)="","No Reportado",('ADMINISTRATIVO '!F97)) -> No Reportado | ER4: =IF(TRIM('ADMINISTRATIVO '!F99)="","No Reportado",('ADMINISTRATIVO '!F99)) -> No Reportado | ES4: =IF(TRIM('ADMINISTRATIVO '!N99)="","No Reportado",('ADMINISTRATIVO '!N99)) -> No Reportado | ET4: =IF(TRIM('ADMINISTRATIVO '!H103)="","No Reportado",('ADMINISTRATIVO '!H103)) -> No Reportado | EU4: =IF(TRIM('ADMINISTRATIVO '!H105)="","No Reportado",('ADMINISTRATIVO '!H105)) -> No Reportado | EV4: =IF(TRIM('ADMINISTRATIVO '!E109)="","No Reportado",('ADMINISTRATIVO '!E109)) -> No Reportado | EW4: =IF(TRIM('ADMINISTRATIVO '!E111)="","No Reportado",('ADMINISTRATIVO '!E111)) -> No Reportado | EX4: =IF(TRIM('ADMINISTRATIVO '!E113)="","No Reportado",('ADMINISTRATIVO '!E113)) -> No Reportado | EY4: =IF(TRIM('ADMINISTRATIVO '!O113)="","No Reportado",('ADMINISTRATIVO '!O113)) -> No Reportado | EZ4: =IF(TRIM('ADMINISTRATIVO '!E115)="","No Reportado",('ADMINISTRATIVO '!E115)) -> No Reportado | FA4: =IF(TRIM('ADMINISTRATIVO '!O115)="","No Reportado",('ADMINISTRATIVO '!O115)) -> No Reportado | FB4: =IF(TRIM('ADMINISTRATIVO '!E117)="","No Reportado",('ADMINISTRATIVO '!E117)) -> No Reportado | FC4: =IF(TRIM('ADMINISTRATIVO '!E119)="","No Reportado",('ADMINISTRATIVO '!E119)) -> No Reportado | FD4: =IF(TRIM('ADMINISTRATIVO '!E121)="","No Reportado",('ADMINISTRATIVO '!E121)) -> No Reportado | FE4: =IF(TRIM('ADMINISTRATIVO '!E123)="","No Reportado",('ADMINISTRATIVO '!E123)) -> No Reportado | FF4: =IF(TRIM('ADMINISTRATIVO '!E125)="","No Reportado",('ADMINISTRATIVO '!E125)) -> No Reportado | FG4: =IF(TRIM('ADMINISTRATIVO '!E127)="","No Reportado",('ADMINISTRATIVO '!E127)) -> No Reportado | FH4: =IF(TRIM('ADMINISTRATIVO '!E129)="","No Reportado",('ADMINISTRATIVO '!E129)) -> No Reportado | FI4: =IF(TRIM('ADMINISTRATIVO '!I133)="","No Reportado",('ADMINISTRATIVO '!I133)) -> No Reportado | FJ4: =IF(TRIM('ADMINISTRATIVO '!I135)="","No Reportado",('ADMINISTRATIVO '!I135)) -> No Reportado | FK4: =IF(TRIM('ADMINISTRATIVO '!F137)="","No Reportado",('ADMINISTRATIVO '!F137)) -> No Reportado | FL4: =IF(TRIM('ADMINISTRATIVO '!N137)="","No Reportado",('ADMINISTRATIVO '!N137)) -> No Reportado | FM4: =IF(TRIM('ADMINISTRATIVO '!I139)="","No Reportado",('ADMINISTRATIVO '!I139)) -> No Reportado | FN4: =IF(TRIM('ADMINISTRATIVO '!F141)="","No Reportado",('ADMINISTRATIVO '!F141)) -> No Reportado | FO4: =IF(TRIM('ADMINISTRATIVO '!N141)="","No Reportado",('ADMINISTRATIVO '!N141)) -> No Reportado | FP4: =IF(TRIM('ADMINISTRATIVO '!I143)="","No Reportado",('ADMINISTRATIVO '!I143)) -> No Reportado | FQ4: =IF(TRIM('ADMINISTRATIVO '!F145)="","No Reportado",('ADMINISTRATIVO '!F145)) -> No Reportado | FR4: =IF(TRIM('ADMINISTRATIVO '!N145)="","No Reportado",('ADMINISTRATIVO '!N145)) -> No Reportado | FS4: =IF(TRIM('ADMINISTRATIVO '!I147)="","No Reportado",('ADMINISTRATIVO '!I147)) -> No Reportado | FT4: =IF(TRIM('ADMINISTRATIVO '!F149)="","No Reportado",('ADMINISTRATIVO '!F149)) -> No Reportado | FU4: =IF(TRIM('ADMINISTRATIVO '!I151)="","No Reportado",('ADMINISTRATIVO '!I151)) -> No Reportado | FV4: =IF(TRIM('ADMINISTRATIVO '!F153)="","No Reportado",('ADMINISTRATIVO '!F153)) -> No Reportado | FW4: =IF(TRIM('ADMINISTRATIVO '!F153)="","No Reportado",('ADMINISTRATIVO '!F153)) -> No Reportado | FX4: =IF(TRIM('ADMINISTRATIVO '!N153)="","No Reportado",('ADMINISTRATIVO '!N153)) -> No Reportado | FY4: =IF(TRIM('ADMINISTRATIVO '!E158)="","No Reportado",('ADMINISTRATIVO '!E158)) -> No Reportado | FZ4: =IF(TRIM('ADMINISTRATIVO '!E160)="","No Reportado",('ADMINISTRATIVO '!E160)) -> No Reportado | GA4: =IF(TRIM('ADMINISTRATIVO '!E164)="","No Reportado",('ADMINISTRATIVO '!E164)) -> No Reportado | GB4: =IF(TRIM('ADMINISTRATIVO '!E171)="","No Reportado",('ADMINISTRATIVO '!E171)) -> No Reportado | GC4: =IF(TRIM('ADMINISTRATIVO '!I171)="","No Reportado",('ADMINISTRATIVO '!I171)) -> No Reportado | GD4: =IF(TRIM('ADMINISTRATIVO '!O171)="","No Reportado",('ADMINISTRATIVO '!O171)) -> No Reportado | GE4: =IF(TRIM('ADMINISTRATIVO '!E172)="","No Reportado",('ADMINISTRATIVO '!E172)) -> No Reportado | GF4: =IF(TRIM('ADMINISTRATIVO '!I172)="","No Reportado",('ADMINISTRATIVO '!I172)) -> No Reportado | GG4: =IF(TRIM('ADMINISTRATIVO '!O172)="","No Reportado",('ADMINISTRATIVO '!O172)) -> No Reportado | GH4: =IF(TRIM('ADMINISTRATIVO '!E173)="","No Reportado",('ADMINISTRATIVO '!E173)) -> No Reportado | GI4: =IF(TRIM('ADMINISTRATIVO '!I173)="","No Reportado",('ADMINISTRATIVO '!I173)) -> No Reportado | GJ4: =IF(TRIM('ADMINISTRATIVO '!O173)="","No Reportado",('ADMINISTRATIVO '!O173)) -> No Reportado | GK4: =IF(TRIM('ADMINISTRATIVO '!E174)="","No Reportado",('ADMINISTRATIVO '!E174)) -> No Reportado | GL4: =IF(TRIM('ADMINISTRATIVO '!I174)="","No Reportado",('ADMINISTRATIVO '!I174)) -> No Reportado | GM4: =IF(TRIM('ADMINISTRATIVO '!O174)="","No Reportado",('ADMINISTRATIVO '!O174)) -> No Reportado | GN4: =IF(TRIM('ADMINISTRATIVO '!E175)="","No Reportado",('ADMINISTRATIVO '!E175)) -> No Reportado | GO4: =IF(TRIM('ADMINISTRATIVO '!I175)="","No Reportado",('ADMINISTRATIVO '!I175)) -> No Reportado | GP4: =IF(TRIM('ADMINISTRATIVO '!O175)="","No Reportado",('ADMINISTRATIVO '!O175)) -> No Reportado | GQ4: =IF(TRIM('ADMINISTRATIVO '!E176)="","No Reportado",('ADMINISTRATIVO '!E176)) -> No Reportado | GR4: =IF(TRIM('ADMINISTRATIVO '!I176)="","No Reportado",('ADMINISTRATIVO '!I176)) -> No Reportado | GS4: =IF(TRIM('ADMINISTRATIVO '!O176)="","No Reportado",('ADMINISTRATIVO '!O176)) -> No Reportado | GT4: =IF(TRIM('ADMINISTRATIVO '!E177)="","No Reportado",('ADMINISTRATIVO '!E177)) -> No Reportado | GU4: =IF(TRIM('ADMINISTRATIVO '!I177)="","No Reportado",('ADMINISTRATIVO '!I177)) -> No Reportado | GV4: =IF(TRIM('ADMINISTRATIVO '!O177)="","No Reportado",('ADMINISTRATIVO '!O177)) -> No Reportado | GW4: =IF(TRIM('ADMINISTRATIVO '!E178)="","No Reportado",('ADMINISTRATIVO '!E178)) -> 0 | GX4: =IF(TRIM('ADMINISTRATIVO '!I178)="","No Reportado",('ADMINISTRATIVO '!I178)) -> 0 | GY4: =IF(TRIM('ADMINISTRATIVO '!O178)="","No Reportado",('ADMINISTRATIVO '!O178)) -> 0 | GZ4: =IF(TRIM('ADMINISTRATIVO '!E179)="","No Reportado",('ADMINISTRATIVO '!E179)) -> No Reportado | HA4: =IF(TRIM('ADMINISTRATIVO '!I179)="","No Reportado",('ADMINISTRATIVO '!I179)) -> No Reportado | HB4: =IF(TRIM('ADMINISTRATIVO '!O179)="","No Reportado",('ADMINISTRATIVO '!O179)) -> No Reportado | HC4: =IF(TRIM('ADMINISTRATIVO '!E180)="","No Reportado",('ADMINISTRATIVO '!E180)) -> No Reportado | HD4: =IF(TRIM('ADMINISTRATIVO '!I180)="","No Reportado",('ADMINISTRATIVO '!I180)) -> No Reportado | HE4: =IF(TRIM('ADMINISTRATIVO '!O180)="","No Reportado",('ADMINISTRATIVO '!O180)) -> No Reportado | HF4: =IF(TRIM('ADMINISTRATIVO '!E181)="","No Reportado",('ADMINISTRATIVO '!E181)) -> No Reportado | HG4: =IF(TRIM('ADMINISTRATIVO '!I181)="","No Reportado",('ADMINISTRATIVO '!I181)) -> No Reportado | HH4: =IF(TRIM('ADMINISTRATIVO '!O181)="","No Reportado",('ADMINISTRATIVO '!O181)) -> No Reportado | HI4: =IF(TRIM('ADMINISTRATIVO '!E182)="","No Reportado",('ADMINISTRATIVO '!E182)) -> No Reportado | HJ4: =IF(TRIM('ADMINISTRATIVO '!I182)="","No Reportado",('ADMINISTRATIVO '!I182)) -> No Reportado | HK4: =IF(TRIM('ADMINISTRATIVO '!O182)="","No Reportado",('ADMINISTRATIVO '!O182)) -> No Reportado | HL4: =IF(TRIM('ADMINISTRATIVO '!E183)="","No Reportado",('ADMINISTRATIVO '!E183)) -> No Reportado | HM4: =IF(TRIM('ADMINISTRATIVO '!I183)="","No Reportado",('ADMINISTRATIVO '!I183)) -> No Reportado | HN4: =IF(TRIM('ADMINISTRATIVO '!O183)="","No Reportado",('ADMINISTRATIVO '!O183)) -> No Reportado | HO4: =IF(TRIM('ADMINISTRATIVO '!E184)="","No Reportado",('ADMINISTRATIVO '!E184)) -> No Reportado | HP4: =IF(TRIM('ADMINISTRATIVO '!I184)="","No Reportado",('ADMINISTRATIVO '!I184)) -> No Reportado | HQ4: =IF(TRIM('ADMINISTRATIVO '!O184)="","No Reportado",('ADMINISTRATIVO '!O184)) -> No Reportado | HR4: =IF(TRIM('ADMINISTRATIVO '!E185)="","No Reportado",('ADMINISTRATIVO '!E185)) -> No Reportado | HS4: =IF(TRIM('ADMINISTRATIVO '!I185)="","No Reportado",('ADMINISTRATIVO '!I185)) -> No Reportado | HT4: =IF(TRIM('ADMINISTRATIVO '!O185)="","No Reportado",('ADMINISTRATIVO '!O185)) -> No Reportado | HU4: =IF(TRIM('ADMINISTRATIVO '!E186)="","No Reportado",('ADMINISTRATIVO '!E186)) -> 0 | HV4: =IF(TRIM('ADMINISTRATIVO '!I186)="","No Reportado",('ADMINISTRATIVO '!I186)) -> 0 | HW4: =IF(TRIM('ADMINISTRATIVO '!O186)="","No Reportado",('ADMINISTRATIVO '!O186)) -> 0 | HX4: =IF(TRIM('ADMINISTRATIVO '!E187)="","No Reportado",('ADMINISTRATIVO '!E187)) -> No Reportado | HY4: =IF(TRIM('ADMINISTRATIVO '!I187)="","No Reportado",('ADMINISTRATIVO '!I187)) -> No Reportado | HZ4: =IF(TRIM('ADMINISTRATIVO '!O187)="","No Reportado",('ADMINISTRATIVO '!O187)) -> No Reportado | IA4: =IF(TRIM('ADMINISTRATIVO '!E188)="","No Reportado",('ADMINISTRATIVO '!E188)) -> No Reportado | IB4: =IF(TRIM('ADMINISTRATIVO '!I188)="","No Reportado",('ADMINISTRATIVO '!I188)) -> No Reportado | IC4: =IF(TRIM('ADMINISTRATIVO '!O188)="","No Reportado",('ADMINISTRATIVO '!O188)) -> No Reportado | ID4: =IF(TRIM('ADMINISTRATIVO '!E189)="","No Reportado",('ADMINISTRATIVO '!E189)) -> No Reportado | IE4: =IF(TRIM('ADMINISTRATIVO '!I189)="","No Reportado",('ADMINISTRATIVO '!I189)) -> No Reportado | IF4: =IF(TRIM('ADMINISTRATIVO '!O189)="","No Reportado",('ADMINISTRATIVO '!O189)) -> No Reportado | IG4: =IF(TRIM('ADMINISTRATIVO '!E190)="","No Reportado",('ADMINISTRATIVO '!E190)) -> No Reportado | IH4: =IF(TRIM('ADMINISTRATIVO '!I190)="","No Reportado",('ADMINISTRATIVO '!I190)) -> No Reportado | II4: =IF(TRIM('ADMINISTRATIVO '!O90)="","No Reportado",('ADMINISTRATIVO '!O190)) -> No Reportado | IJ4: =IF(TRIM('ADMINISTRATIVO '!E191)="","No Reportado",('ADMINISTRATIVO '!E191)) -> No Reportado | IK4: =IF(TRIM('ADMINISTRATIVO '!I191)="","No Reportado",('ADMINISTRATIVO '!I191)) -> No Reportado | IL4: =IF(TRIM('ADMINISTRATIVO '!O191)="","No Reportado",('ADMINISTRATIVO '!O191)) -> No Reportado | IM4: =IF(TRIM('ADMINISTRATIVO '!E192)="","No Reportado",('ADMINISTRATIVO '!E192)) -> 0 | IN4: =IF(TRIM('ADMINISTRATIVO '!I192)="","No Reportado",('ADMINISTRATIVO '!I192)) -> 0 | IO4: =IF(TRIM('ADMINISTRATIVO '!O192)="","No Reportado",('ADMINISTRATIVO '!O192)) -> 0 | IP4: =IF(TRIM('ADMINISTRATIVO '!E194)="","No Reportado",('ADMINISTRATIVO '!E194)) -> No Reportado | IQ4: =IF(TRIM('ADMINISTRATIVO '!I194)="","No Reportado",('ADMINISTRATIVO '!I194)) -> No Reportado | IR4: =IF(TRIM('ADMINISTRATIVO '!O194)="","No Reportado",('ADMINISTRATIVO '!O194)) -> No Reportado | IS4: =IF(TRIM('ADMINISTRATIVO '!E195)="","No Reportado",('ADMINISTRATIVO '!E195)) -> No Reportado | IT4: =IF(TRIM('ADMINISTRATIVO '!I195)="","No Reportado",('ADMINISTRATIVO '!I195)) -> No Reportado | IU4: =IF(TRIM('ADMINISTRATIVO '!O195)="","No Reportado",('ADMINISTRATIVO '!O195)) -> No Reportado | IV4: =IF(TRIM('ADMINISTRATIVO '!M200)="","No Reportado",('ADMINISTRATIVO '!M200)) -> No Reportado | IW4: =IF(TRIM('ADMINISTRATIVO '!M201)="","No Reportado",('ADMINISTRATIVO '!M201)) -> No Reportado | IX4: =IF(TRIM('ADMINISTRATIVO '!R200)="","No Reportado",('ADMINISTRATIVO '!R200)) -> #DIV/0! | IY4: =IF(TRIM('ADMINISTRATIVO '!M202)="","No Reportado",('ADMINISTRATIVO '!M202)) -> No Reportado | IZ4: =IF(TRIM('ADMINISTRATIVO '!M203)="","No Reportado",('ADMINISTRATIVO '!M203)) -> No Reportado | JA4: =IF(TRIM('ADMINISTRATIVO '!R202)="","No Reportado",('ADMINISTRATIVO '!R202)) -> #DIV/0! | JB4: =IF(TRIM('ADMINISTRATIVO '!M204)="","No Reportado",('ADMINISTRATIVO '!M204)) -> No Reportado | JC4: =IF(TRIM('ADMINISTRATIVO '!M205)="","No Reportado",('ADMINISTRATIVO '!M205)) -> No Reportado | JD4: =IF(TRIM('ADMINISTRATIVO '!R204)="","No Reportado",('ADMINISTRATIVO '!R204)) -> #DIV/0!

Sheet RESPUESTAS DE INTITU,LEGAL
A1: 1. ASPECTOS INSTITUCIONALES | R1: SERIVICIOS PRESTADOS | AZ1: 2. ASPECTOS LEGALES | BU1: ESTADO DE LEGALIZACIÓN DE LOS PREDIOS Y SERVIDUMBRES
R2: Acueducto actividades | AF2: Alcantarillado actividades | AP2: Aseo actividades | BJ2: PROCESOS LEGALES | BQ2: PERMISOS DE SERVIDUMBRE
